BEGIN:VCALENDAR
VERSION:2.0
PRODID:-//Aëlle Arts - ECPv6.15.20//NONSGML v1.0//EN
CALSCALE:GREGORIAN
METHOD:PUBLISH
X-WR-CALNAME:Aëlle Arts
X-ORIGINAL-URL:https://aelle-arts.fr
X-WR-CALDESC:Évènements pour Aëlle Arts
REFRESH-INTERVAL;VALUE=DURATION:PT1H
X-Robots-Tag:noindex
X-PUBLISHED-TTL:PT1H
BEGIN:VTIMEZONE
TZID:Europe/Paris
BEGIN:DAYLIGHT
TZOFFSETFROM:+0100
TZOFFSETTO:+0200
TZNAME:CEST
DTSTART:20230326T010000
END:DAYLIGHT
BEGIN:STANDARD
TZOFFSETFROM:+0200
TZOFFSETTO:+0100
TZNAME:CET
DTSTART:20231029T010000
END:STANDARD
BEGIN:DAYLIGHT
TZOFFSETFROM:+0100
TZOFFSETTO:+0200
TZNAME:CEST
DTSTART:20240331T010000
END:DAYLIGHT
BEGIN:STANDARD
TZOFFSETFROM:+0200
TZOFFSETTO:+0100
TZNAME:CET
DTSTART:20241027T010000
END:STANDARD
BEGIN:DAYLIGHT
TZOFFSETFROM:+0100
TZOFFSETTO:+0200
TZNAME:CEST
DTSTART:20250330T010000
END:DAYLIGHT
BEGIN:STANDARD
TZOFFSETFROM:+0200
TZOFFSETTO:+0100
TZNAME:CET
DTSTART:20251026T010000
END:STANDARD
END:VTIMEZONE
BEGIN:VEVENT
DTSTART;TZID=Europe/Paris:20241026T100000
DTEND;TZID=Europe/Paris:20241103T190000
DTSTAMP:20260424T124132
CREATED:20240819T082612Z
LAST-MODIFIED:20240819T082614Z
UID:372-1729936800-1730660400@aelle-arts.fr
SUMMARY:46è salon d'automne de Carcassonne
DESCRIPTION:Salon pluridisciplinaire. \n\n\n\nDu 26 octobre 2024 au 3 novembre 2024 \n\n\n\nVernissage le 26 octobre 2024 de18h30 à 20h30
URL:https://aelle-arts.fr/index.php/event/46e-salon-dautomne-de-carcassonne/
LOCATION:Salle Joël Bousquet\, Rue Courtejaire\, Carcassonne\, 11000\, France
END:VEVENT
END:VCALENDAR