BEGIN:VCALENDAR
VERSION:2.0
PRODID:-//Aëlle Arts - ECPv6.15.20//NONSGML v1.0//EN
CALSCALE:GREGORIAN
METHOD:PUBLISH
X-ORIGINAL-URL:https://aelle-arts.fr
X-WR-CALDESC:Évènements pour Aëlle Arts
REFRESH-INTERVAL;VALUE=DURATION:PT1H
X-Robots-Tag:noindex
X-PUBLISHED-TTL:PT1H
BEGIN:VTIMEZONE
TZID:Europe/Paris
BEGIN:DAYLIGHT
TZOFFSETFROM:+0100
TZOFFSETTO:+0200
TZNAME:CEST
DTSTART:20240331T010000
END:DAYLIGHT
BEGIN:STANDARD
TZOFFSETFROM:+0200
TZOFFSETTO:+0100
TZNAME:CET
DTSTART:20241027T010000
END:STANDARD
BEGIN:DAYLIGHT
TZOFFSETFROM:+0100
TZOFFSETTO:+0200
TZNAME:CEST
DTSTART:20250330T010000
END:DAYLIGHT
BEGIN:STANDARD
TZOFFSETFROM:+0200
TZOFFSETTO:+0100
TZNAME:CET
DTSTART:20251026T010000
END:STANDARD
BEGIN:DAYLIGHT
TZOFFSETFROM:+0100
TZOFFSETTO:+0200
TZNAME:CEST
DTSTART:20260329T010000
END:DAYLIGHT
BEGIN:STANDARD
TZOFFSETFROM:+0200
TZOFFSETTO:+0100
TZNAME:CET
DTSTART:20261025T010000
END:STANDARD
END:VTIMEZONE
BEGIN:VEVENT
DTSTART;TZID=Europe/Paris:20250122T100000
DTEND;TZID=Europe/Paris:20250621T180000
DTSTAMP:20260423T224522
CREATED:20250121T181901Z
LAST-MODIFIED:20250121T182449Z
UID:428-1737540000-1750528800@aelle-arts.fr
SUMMARY:A joyeuse spiritualité ? Spiritualité joueuse !
DESCRIPTION:Exposition collective.
URL:https://aelle-arts.fr/index.php/event/a-joyeuse-spiritualite-spiritualite-joueuse/
LOCATION:Vue Sur Cours\, 5 cours Mirabeau\, Narbonne\, 11100\, France
CATEGORIES:Exposition
ATTACH;FMTTYPE=image/jpeg:https://aelle-arts.fr/wp-content/uploads/2025/01/Logo-VSC.jpg
END:VEVENT
END:VCALENDAR