BEGIN:VCALENDAR
VERSION:2.0
PRODID:-//Aëlle Arts - ECPv6.15.20//NONSGML v1.0//EN
CALSCALE:GREGORIAN
METHOD:PUBLISH
X-WR-CALNAME:Aëlle Arts
X-ORIGINAL-URL:https://aelle-arts.fr
X-WR-CALDESC:Évènements pour Aëlle Arts
REFRESH-INTERVAL;VALUE=DURATION:PT1H
X-Robots-Tag:noindex
X-PUBLISHED-TTL:PT1H
BEGIN:VTIMEZONE
TZID:Europe/Paris
BEGIN:DAYLIGHT
TZOFFSETFROM:+0100
TZOFFSETTO:+0200
TZNAME:CEST
DTSTART:20240331T010000
END:DAYLIGHT
BEGIN:STANDARD
TZOFFSETFROM:+0200
TZOFFSETTO:+0100
TZNAME:CET
DTSTART:20241027T010000
END:STANDARD
BEGIN:DAYLIGHT
TZOFFSETFROM:+0100
TZOFFSETTO:+0200
TZNAME:CEST
DTSTART:20250330T010000
END:DAYLIGHT
BEGIN:STANDARD
TZOFFSETFROM:+0200
TZOFFSETTO:+0100
TZNAME:CET
DTSTART:20251026T010000
END:STANDARD
BEGIN:DAYLIGHT
TZOFFSETFROM:+0100
TZOFFSETTO:+0200
TZNAME:CEST
DTSTART:20260329T010000
END:DAYLIGHT
BEGIN:STANDARD
TZOFFSETFROM:+0200
TZOFFSETTO:+0100
TZNAME:CET
DTSTART:20261025T010000
END:STANDARD
END:VTIMEZONE
BEGIN:VEVENT
DTSTART;TZID=Europe/Paris:20250705T110000
DTEND;TZID=Europe/Paris:20250805T180000
DTSTAMP:20260423T202455
CREATED:20250624T171126Z
LAST-MODIFIED:20250624T171127Z
UID:834-1751713200-1754416800@aelle-arts.fr
SUMMARY:Exposition collective à la galerie SOMART
DESCRIPTION:Affiche de l’exposition d’art à la galerie SOMART au Somail (11)
URL:https://aelle-arts.fr/index.php/event/exposition-collective-a-la-galerie-somart/
LOCATION:Atelier des Arts\, 3 rue du Musée\, Le Somail\, 11120\, France
ATTACH;FMTTYPE=image/png:https://aelle-arts.fr/wp-content/uploads/2025/06/Version-A6.png
END:VEVENT
END:VCALENDAR