BEGIN:VCALENDAR
VERSION:2.0
PRODID:-//Aëlle Arts - ECPv6.15.20//NONSGML v1.0//EN
CALSCALE:GREGORIAN
METHOD:PUBLISH
X-ORIGINAL-URL:https://aelle-arts.fr
X-WR-CALDESC:Évènements pour Aëlle Arts
REFRESH-INTERVAL;VALUE=DURATION:PT1H
X-Robots-Tag:noindex
X-PUBLISHED-TTL:PT1H
BEGIN:VTIMEZONE
TZID:Europe/Paris
BEGIN:DAYLIGHT
TZOFFSETFROM:+0100
TZOFFSETTO:+0200
TZNAME:CEST
DTSTART:20240331T010000
END:DAYLIGHT
BEGIN:STANDARD
TZOFFSETFROM:+0200
TZOFFSETTO:+0100
TZNAME:CET
DTSTART:20241027T010000
END:STANDARD
BEGIN:DAYLIGHT
TZOFFSETFROM:+0100
TZOFFSETTO:+0200
TZNAME:CEST
DTSTART:20250330T010000
END:DAYLIGHT
BEGIN:STANDARD
TZOFFSETFROM:+0200
TZOFFSETTO:+0100
TZNAME:CET
DTSTART:20251026T010000
END:STANDARD
BEGIN:DAYLIGHT
TZOFFSETFROM:+0100
TZOFFSETTO:+0200
TZNAME:CEST
DTSTART:20260329T010000
END:DAYLIGHT
BEGIN:STANDARD
TZOFFSETFROM:+0200
TZOFFSETTO:+0100
TZNAME:CET
DTSTART:20261025T010000
END:STANDARD
END:VTIMEZONE
BEGIN:VEVENT
DTSTART;TZID=Europe/Paris:20250912T100000
DTEND;TZID=Europe/Paris:20250914T180000
DTSTAMP:20260423T171800
CREATED:20241129T123212Z
LAST-MODIFIED:20250902T081636Z
UID:395-1757671200-1757872800@aelle-arts.fr
SUMMARY:Salon Des Arts Troisième édition
DESCRIPTION:Affiche de la 3e édition du Salon des Arts de Graissessac\n\n\n\nNAVETTE & SERVICES PRATIQUESPendant toute la durée du Salon\, une calèche gratuite assure la liaison entre les différents lieux d’exposition\, pour une promenade artistique conviviale et champêtre.Une buvette est installée à la Salle Jean Moulin. \n\n\n\nVENTE AUX ENCHÈRES – VENDREDI 12 SEPTEMBRE À 21HUn moment fort du Salon : la vente aux enchères caritative au profit de la Fondation Le Refuge\, aura lieu le vendredi 12 septembre à 21h\, dans l’ancien Temple de Graissessac.Merci du fond du cœur aux artistes donateurs : votre générosité permettra de soutenir les jeunes LGBTQ+ en difficulté.Des témoignages vidéo de personnalités seront diffusés durant cette soirée exceptionnelle\, empreinte d’émotion et de solidarité.
URL:https://aelle-arts.fr/index.php/event/salon-des-arts-troisieme-edition/
LOCATION:Salon Des Arts Troisième édition\, Graissessac\, 34260\, France
CATEGORIES:Exposition,Salon
ATTACH;FMTTYPE=image/jpeg:https://aelle-arts.fr/wp-content/uploads/2024/11/SALON-DES-ARTS-2025-MASC-34-AFFICHE-scaled.jpg
END:VEVENT
END:VCALENDAR