BEGIN:VCALENDAR
VERSION:2.0
PRODID:-//Aëlle Arts - ECPv6.15.20//NONSGML v1.0//EN
CALSCALE:GREGORIAN
METHOD:PUBLISH
X-ORIGINAL-URL:https://aelle-arts.fr
X-WR-CALDESC:Évènements pour Aëlle Arts
REFRESH-INTERVAL;VALUE=DURATION:PT1H
X-Robots-Tag:noindex
X-PUBLISHED-TTL:PT1H
BEGIN:VTIMEZONE
TZID:Europe/Paris
BEGIN:DAYLIGHT
TZOFFSETFROM:+0100
TZOFFSETTO:+0200
TZNAME:CEST
DTSTART:20230326T010000
END:DAYLIGHT
BEGIN:STANDARD
TZOFFSETFROM:+0200
TZOFFSETTO:+0100
TZNAME:CET
DTSTART:20231029T010000
END:STANDARD
BEGIN:DAYLIGHT
TZOFFSETFROM:+0100
TZOFFSETTO:+0200
TZNAME:CEST
DTSTART:20240331T010000
END:DAYLIGHT
BEGIN:STANDARD
TZOFFSETFROM:+0200
TZOFFSETTO:+0100
TZNAME:CET
DTSTART:20241027T010000
END:STANDARD
BEGIN:DAYLIGHT
TZOFFSETFROM:+0100
TZOFFSETTO:+0200
TZNAME:CEST
DTSTART:20250330T010000
END:DAYLIGHT
BEGIN:STANDARD
TZOFFSETFROM:+0200
TZOFFSETTO:+0100
TZNAME:CET
DTSTART:20251026T010000
END:STANDARD
END:VTIMEZONE
BEGIN:VEVENT
DTSTART;TZID=Europe/Paris:20240920T000000
DTEND;TZID=Europe/Paris:20240923T235959
DTSTAMP:20260422T134148
CREATED:20240410T145651Z
LAST-MODIFIED:20240410T145653Z
UID:252-1726790400-1727135999@aelle-arts.fr
SUMMARY:Mantra Fest
DESCRIPTION:Les 10 ans ! Quel bel anniversaire à célébrer en chantant\, évidemment… \n\n\n\nUn jour\, une toile… Méditations guidées par Aëlle avec un Yantra comme support matin et soir\, tous les jours.
URL:https://aelle-arts.fr/index.php/event/mantra-fest/
LOCATION:Ecohameau Sainte Camelle\, Rouzaud Ariège\, Saint-Victor\, 09100\, France
CATEGORIES:Festival
ATTACH;FMTTYPE=image/png:https://aelle-arts.fr/wp-content/uploads/2024/04/Mantra-Fest-bandeau.png
END:VEVENT
END:VCALENDAR