BEGIN:VCALENDAR
VERSION:2.0
PRODID:-//Aëlle Arts - ECPv6.15.20//NONSGML v1.0//EN
CALSCALE:GREGORIAN
METHOD:PUBLISH
X-WR-CALNAME:Aëlle Arts
X-ORIGINAL-URL:https://aelle-arts.fr
X-WR-CALDESC:Évènements pour Aëlle Arts
REFRESH-INTERVAL;VALUE=DURATION:PT1H
X-Robots-Tag:noindex
X-PUBLISHED-TTL:PT1H
BEGIN:VTIMEZONE
TZID:Europe/Paris
BEGIN:DAYLIGHT
TZOFFSETFROM:+0100
TZOFFSETTO:+0200
TZNAME:CEST
DTSTART:20240331T010000
END:DAYLIGHT
BEGIN:STANDARD
TZOFFSETFROM:+0200
TZOFFSETTO:+0100
TZNAME:CET
DTSTART:20241027T010000
END:STANDARD
BEGIN:DAYLIGHT
TZOFFSETFROM:+0100
TZOFFSETTO:+0200
TZNAME:CEST
DTSTART:20250330T010000
END:DAYLIGHT
BEGIN:STANDARD
TZOFFSETFROM:+0200
TZOFFSETTO:+0100
TZNAME:CET
DTSTART:20251026T010000
END:STANDARD
BEGIN:DAYLIGHT
TZOFFSETFROM:+0100
TZOFFSETTO:+0200
TZNAME:CEST
DTSTART:20260329T010000
END:DAYLIGHT
BEGIN:STANDARD
TZOFFSETFROM:+0200
TZOFFSETTO:+0100
TZNAME:CET
DTSTART:20261025T010000
END:STANDARD
END:VTIMEZONE
BEGIN:VEVENT
DTSTART;TZID=Europe/Paris:20250122T100000
DTEND;TZID=Europe/Paris:20250621T180000
DTSTAMP:20260423T204334
CREATED:20250121T181901Z
LAST-MODIFIED:20250121T182449Z
UID:428-1737540000-1750528800@aelle-arts.fr
SUMMARY:A joyeuse spiritualité ? Spiritualité joueuse !
DESCRIPTION:Exposition collective.
URL:https://aelle-arts.fr/index.php/event/a-joyeuse-spiritualite-spiritualite-joueuse/
LOCATION:Vue Sur Cours\, 5 cours Mirabeau\, Narbonne\, 11100\, France
CATEGORIES:Exposition
ATTACH;FMTTYPE=image/jpeg:https://aelle-arts.fr/wp-content/uploads/2025/01/Logo-VSC.jpg
END:VEVENT
BEGIN:VEVENT
DTSTART;TZID=Europe/Paris:20250530T100000
DTEND;TZID=Europe/Paris:20250601T180000
DTSTAMP:20260423T204334
CREATED:20241129T122715Z
LAST-MODIFIED:20250517T192357Z
UID:391-1748599200-1748800800@aelle-arts.fr
SUMMARY:Salon des Arts "Éclosion d’Art"
DESCRIPTION:
URL:https://aelle-arts.fr/index.php/event/salon-des-arts-eclosion-dart/
LOCATION:34650 Lunas\, Lunas\, 34650\, France
CATEGORIES:Exposition,Salon
ATTACH;FMTTYPE=image/jpeg:https://aelle-arts.fr/wp-content/uploads/2024/11/CMJN-affiche-eclosion-d-art-2025-scaled.jpg
END:VEVENT
BEGIN:VEVENT
DTSTART;TZID=Europe/Paris:20250607T100000
DTEND;TZID=Europe/Paris:20250607T180000
DTSTAMP:20260423T204335
CREATED:20250517T191414Z
LAST-MODIFIED:20250517T192633Z
UID:751-1749290400-1749319200@aelle-arts.fr
SUMMARY:Marché de l'Art du 7 juin 2025 - Narbonne
DESCRIPTION:Toute la journée une sélection d’artistes exposent et réalisent des démonstrations.
URL:https://aelle-arts.fr/index.php/event/marche-de-lart-du-7-juin-2025-narbonne/
LOCATION:Place du Forum 11100 Narbonne\, Place du Forum\, Narbonne\, 11100\, France
CATEGORIES:Marché d'Art
ATTACH;FMTTYPE=image/jpeg:https://aelle-arts.fr/wp-content/uploads/2025/05/7-juin-2025.jpg
END:VEVENT
END:VCALENDAR